BEGIN:VCALENDAR
VERSION:2.0
PRODID:-// - ECPv6.15.11//NONSGML v1.0//EN
CALSCALE:GREGORIAN
METHOD:PUBLISH
X-ORIGINAL-URL:https://shop.accessoire1801.de
X-WR-CALDESC:Veranstaltungen für 
REFRESH-INTERVAL;VALUE=DURATION:PT1H
X-Robots-Tag:noindex
X-PUBLISHED-TTL:PT1H
BEGIN:VTIMEZONE
TZID:Europe/Berlin
BEGIN:DAYLIGHT
TZOFFSETFROM:+0100
TZOFFSETTO:+0200
TZNAME:CEST
DTSTART:20230326T010000
END:DAYLIGHT
BEGIN:STANDARD
TZOFFSETFROM:+0200
TZOFFSETTO:+0100
TZNAME:CET
DTSTART:20231029T010000
END:STANDARD
BEGIN:DAYLIGHT
TZOFFSETFROM:+0100
TZOFFSETTO:+0200
TZNAME:CEST
DTSTART:20240331T010000
END:DAYLIGHT
BEGIN:STANDARD
TZOFFSETFROM:+0200
TZOFFSETTO:+0100
TZNAME:CET
DTSTART:20241027T010000
END:STANDARD
BEGIN:DAYLIGHT
TZOFFSETFROM:+0100
TZOFFSETTO:+0200
TZNAME:CEST
DTSTART:20250330T010000
END:DAYLIGHT
BEGIN:STANDARD
TZOFFSETFROM:+0200
TZOFFSETTO:+0100
TZNAME:CET
DTSTART:20251026T010000
END:STANDARD
BEGIN:DAYLIGHT
TZOFFSETFROM:+0100
TZOFFSETTO:+0200
TZNAME:CEST
DTSTART:20260329T010000
END:DAYLIGHT
BEGIN:STANDARD
TZOFFSETFROM:+0200
TZOFFSETTO:+0100
TZNAME:CET
DTSTART:20261025T010000
END:STANDARD
END:VTIMEZONE
BEGIN:VTIMEZONE
TZID:UTC
BEGIN:STANDARD
TZOFFSETFROM:+0000
TZOFFSETTO:+0000
TZNAME:UTC
DTSTART:20230101T000000
END:STANDARD
END:VTIMEZONE
BEGIN:VEVENT
DTSTART;TZID=Europe/Berlin:20251207T110000
DTEND;TZID=Europe/Berlin:20251207T210000
DTSTAMP:20260420T114337
CREATED:20250912T105225Z
LAST-MODIFIED:20250912T105225Z
UID:12990-1765105200-1765141200@shop.accessoire1801.de
SUMMARY:Hobby- und Künstlermarkt Maintal-Hochstadt
DESCRIPTION:
URL:https://shop.accessoire1801.de/event/hobby-und-kuenstlermarkt-maintal-hochstadt-4
LOCATION:Bürgerhaus Maintal Hochstadt\, Ringstraße 21\, Maintal\, Hessen\, 63477
END:VEVENT
BEGIN:VEVENT
DTSTART;TZID=Europe/Berlin:20251206T150000
DTEND;TZID=Europe/Berlin:20251206T220000
DTSTAMP:20260420T114337
CREATED:20250912T105145Z
LAST-MODIFIED:20250912T105145Z
UID:12988-1765033200-1765058400@shop.accessoire1801.de
SUMMARY:Hobby- und Künstlermarkt Maintal-Hochstadt
DESCRIPTION:
URL:https://shop.accessoire1801.de/event/hobby-und-kuenstlermarkt-maintal-hochstadt-3
LOCATION:Bürgerhaus Maintal Hochstadt\, Ringstraße 21\, Maintal\, Hessen\, 63477
END:VEVENT
BEGIN:VEVENT
DTSTART;TZID=Europe/Berlin:20250921T100000
DTEND;TZID=Europe/Berlin:20250921T180000
DTSTAMP:20260420T114337
CREATED:20250912T104547Z
LAST-MODIFIED:20250912T104547Z
UID:12983-1758448800-1758477600@shop.accessoire1801.de
SUMMARY:Hundebadetag Lindenau-Bad Hanau
DESCRIPTION:
URL:https://shop.accessoire1801.de/event/hundebadetag-lindenau-bad-hanau
LOCATION:Lindenaubad Hanau\, Rue de Conflans 7\, Hanau\, Hessen\, 63457\, Deutschland
END:VEVENT
BEGIN:VEVENT
DTSTART;TZID=Europe/Berlin:20250920T110000
DTEND;TZID=Europe/Berlin:20250920T170000
DTSTAMP:20260420T114337
CREATED:20250912T104818Z
LAST-MODIFIED:20250912T104818Z
UID:12985-1758366000-1758387600@shop.accessoire1801.de
SUMMARY:Hundeschwimmen Neu-Isenburg
DESCRIPTION:
URL:https://shop.accessoire1801.de/event/hundeschwimmen-neu-isenburg-2
LOCATION:Waldschwimmbad Neu-Isenburg\, Alicestraße 118\, Neu-Isenburg\, Hessen\, 63263\, Deutschland
END:VEVENT
BEGIN:VEVENT
DTSTART;TZID=Europe/Berlin:20250914T110000
DTEND;TZID=Europe/Berlin:20250914T160000
DTSTAMP:20260420T114337
CREATED:20250912T104339Z
LAST-MODIFIED:20250912T104339Z
UID:12980-1757847600-1757865600@shop.accessoire1801.de
SUMMARY:Sommerfest Tierheim Hanau
DESCRIPTION:
URL:https://shop.accessoire1801.de/event/sommerfest-tierheim-hanau
LOCATION:Tierheim Hanau\, Landstraße 91\, Hanau\, Hessen\, 63454\, Germany
END:VEVENT
BEGIN:VEVENT
DTSTART;TZID=Europe/Berlin:20250913T100000
DTEND;TZID=Europe/Berlin:20250913T160000
DTSTAMP:20260420T114337
CREATED:20250912T104019Z
LAST-MODIFIED:20250912T104019Z
UID:12978-1757757600-1757779200@shop.accessoire1801.de
SUMMARY:Hundeschwimmen Nidderbad
DESCRIPTION:
URL:https://shop.accessoire1801.de/event/hundeschwimmen-nidderbad
LOCATION:Nidderbad Nidderau\, Konrad-Adenauer-Allee 7a\, Nidderau\, Hessen\, 61130\, Deutschland
END:VEVENT
BEGIN:VEVENT
DTSTART;TZID=Europe/Berlin:20241221T140000
DTEND;TZID=Europe/Berlin:20241221T210000
DTSTAMP:20260420T114337
CREATED:20241122T131040Z
LAST-MODIFIED:20241122T131040Z
UID:12969-1734789600-1734814800@shop.accessoire1801.de
SUMMARY:Weihnachtsmarkt Cult Club Utphe
DESCRIPTION:
URL:https://shop.accessoire1801.de/event/weihnachtsmarkt-cult-club-utphe
LOCATION:Hofgut Utphe\, Weedstraße 16\, Hungen\, Hessen\, 35410
END:VEVENT
BEGIN:VEVENT
DTSTART;TZID=Europe/Berlin:20241208T110000
DTEND;TZID=Europe/Berlin:20241208T190000
DTSTAMP:20260420T114337
CREATED:20241122T130530Z
LAST-MODIFIED:20241122T130530Z
UID:12968-1733655600-1733684400@shop.accessoire1801.de
SUMMARY:Hobby- und Künstlermarkt Maintal-Hochstadt
DESCRIPTION:
URL:https://shop.accessoire1801.de/event/hobby-und-kuenstlermarkt-maintal-hochstadt-2
LOCATION:Bürgerhaus Maintal Hochstadt\, Ringstraße 21\, Maintal\, Hessen\, 63477
END:VEVENT
BEGIN:VEVENT
DTSTART;TZID=Europe/Berlin:20241207T150000
DTEND;TZID=Europe/Berlin:20241207T200000
DTSTAMP:20260420T114337
CREATED:20241122T130353Z
LAST-MODIFIED:20241122T130353Z
UID:12965-1733583600-1733601600@shop.accessoire1801.de
SUMMARY:Hobby- und Künstlermarkt Maintal-Hochstadt
DESCRIPTION:
URL:https://shop.accessoire1801.de/event/hobby-und-kuenstlermarkt-maintal-hochstadt
LOCATION:Bürgerhaus Maintal Hochstadt\, Ringstraße 21\, Maintal\, Hessen\, 63477
END:VEVENT
BEGIN:VEVENT
DTSTART;TZID=UTC:20240922T100000
DTEND;TZID=UTC:20240922T180000
DTSTAMP:20260420T114337
CREATED:20240304T194543Z
LAST-MODIFIED:20240705T104903Z
UID:11407-1726999200-1727028000@shop.accessoire1801.de
SUMMARY:Hundebadetag Lindenaubad
DESCRIPTION:
URL:https://shop.accessoire1801.de/event/hundebadetag-lindenaubad
LOCATION:Lindenaubad Hanau\, Rue de Conflans 7\, Hanau\, Hessen\, 63457\, Deutschland
END:VEVENT
BEGIN:VEVENT
DTSTART;TZID=UTC:20240921T110000
DTEND;TZID=UTC:20240921T170000
DTSTAMP:20260420T114337
CREATED:20240329T204518Z
LAST-MODIFIED:20240712T194526Z
UID:12541-1726916400-1726938000@shop.accessoire1801.de
SUMMARY:Hundeschwimmen Neu-Isenburg
DESCRIPTION:
URL:https://shop.accessoire1801.de/event/hundeschwimmen-neu-isenburg
LOCATION:Waldschwimmbad Neu-Isenburg\, Alicestraße 118\, Neu-Isenburg\, Hessen\, 63263\, Deutschland
END:VEVENT
BEGIN:VEVENT
DTSTART;TZID=UTC:20240915T100000
DTEND;TZID=UTC:20240915T160000
DTSTAMP:20260420T114337
CREATED:20240329T204132Z
LAST-MODIFIED:20240705T104723Z
UID:12539-1726394400-1726416000@shop.accessoire1801.de
SUMMARY:Hunderennen Klein-Krotzenburg
DESCRIPTION:
URL:https://shop.accessoire1801.de/event/hundebadetage-nidderbad-2
LOCATION:Verein der Hundefreunde Klein Krotzenburg\, Fasaneriestraße 32\, Hainburg\, Hessen\, 63512\, Deutschland
END:VEVENT
BEGIN:VEVENT
DTSTART;TZID=UTC:20240914T100000
DTEND;TZID=UTC:20240914T160000
DTSTAMP:20260420T114337
CREATED:20240304T194903Z
LAST-MODIFIED:20240705T104908Z
UID:11410-1726308000-1726329600@shop.accessoire1801.de
SUMMARY:Hundebadetage Nidderbad
DESCRIPTION:
URL:https://shop.accessoire1801.de/event/hundebadetage-nidderbad
LOCATION:Nidderbad Nidderau\, Konrad-Adenauer-Allee 7a\, Nidderau\, Hessen\, 61130\, Deutschland
END:VEVENT
BEGIN:VEVENT
DTSTART;TZID=UTC:20240525T110000
DTEND;TZID=UTC:20240525T190000
DTSTAMP:20260420T114337
CREATED:20240329T205022Z
LAST-MODIFIED:20240329T205022Z
UID:12546-1716634800-1716663600@shop.accessoire1801.de
SUMMARY:Hainburger Markt
DESCRIPTION:
URL:https://shop.accessoire1801.de/event/hainburger-markt-2
LOCATION:Hainburger Markt\, Offenbacher Landstraße\, Hainburg\, Hessen\, 63512\, Deutschland
END:VEVENT
BEGIN:VEVENT
DTSTART;TZID=UTC:20240524T120000
DTEND;TZID=UTC:20240524T190000
DTSTAMP:20260420T114337
CREATED:20240304T193909Z
LAST-MODIFIED:20240329T204917Z
UID:11402-1716552000-1716577200@shop.accessoire1801.de
SUMMARY:Hainburger Markt
DESCRIPTION:
URL:https://shop.accessoire1801.de/event/hainburger-markt
LOCATION:Hainburger Markt\, Offenbacher Landstraße\, Hainburg\, Hessen\, 63512\, Deutschland
END:VEVENT
END:VCALENDAR